
BEGIN:VCALENDAR
VERSION:2.0
PRODID:-// - ECPv6.15.20//NONSGML v1.0//EN
CALSCALE:GREGORIAN
METHOD:PUBLISH
X-ORIGINAL-URL:https://www.durhamcityharriers.org.uk
X-WR-CALDESC:Events for 
REFRESH-INTERVAL;VALUE=DURATION:PT1H
X-Robots-Tag:noindex
X-PUBLISHED-TTL:PT1H
BEGIN:VTIMEZONE
TZID:Europe/London
BEGIN:DAYLIGHT
TZOFFSETFROM:+0000
TZOFFSETTO:+0100
TZNAME:BST
DTSTART:20250330T010000
END:DAYLIGHT
BEGIN:STANDARD
TZOFFSETFROM:+0100
TZOFFSETTO:+0000
TZNAME:GMT
DTSTART:20251026T010000
END:STANDARD
BEGIN:DAYLIGHT
TZOFFSETFROM:+0000
TZOFFSETTO:+0100
TZNAME:BST
DTSTART:20260329T010000
END:DAYLIGHT
BEGIN:STANDARD
TZOFFSETFROM:+0100
TZOFFSETTO:+0000
TZNAME:GMT
DTSTART:20261025T010000
END:STANDARD
BEGIN:DAYLIGHT
TZOFFSETFROM:+0000
TZOFFSETTO:+0100
TZNAME:BST
DTSTART:20270328T010000
END:DAYLIGHT
BEGIN:STANDARD
TZOFFSETFROM:+0100
TZOFFSETTO:+0000
TZNAME:GMT
DTSTART:20271031T010000
END:STANDARD
END:VTIMEZONE
BEGIN:VEVENT
DTSTART;TZID=Europe/London:20260716T184500
DTEND;TZID=Europe/London:20260716T200000
DTSTAMP:20260421T152820
CREATED:20260416T104703Z
LAST-MODIFIED:20260418T082851Z
UID:2237-1784227500-1784232000@www.durhamcityharriers.org.uk
SUMMARY:Senior Training
DESCRIPTION:Track Session:
URL:https://www.durhamcityharriers.org.uk/event/senior-endurance-training-33/
LOCATION:Graham Sports Centre\, Maiden Castle\, Stockton Road\, Durham\, Co. Durham\, United Kingdom
CATEGORIES:Senior Endurance,Training,Seniors
END:VEVENT
BEGIN:VEVENT
DTSTART;TZID=Europe/London:20260716T193000
DTEND;TZID=Europe/London:20260716T210000
DTSTAMP:20260421T152820
CREATED:20260416T085926Z
LAST-MODIFIED:20260417T094709Z
UID:2206-1784230200-1784235600@www.durhamcityharriers.org.uk
SUMMARY:Durham City 5K
DESCRIPTION:Run in tandem with the 10K\, this is a great event finishing on Palace Green\, Durham – attracts huge support. Let’s paint the city orange! The 5K is the CLUB CHAMPIONSHIP RACE. 5K starts at 7 pm; 10K starts at 7.30 pm.
URL:https://www.durhamcityharriers.org.uk/event/durham-city-5k/
LOCATION:Radisson Hotel\, Durham\, Milburngate Riverside\, Durham\, DH1 5TA\, United Kingdom
CATEGORIES:Events,External Events,Road Races
END:VEVENT
END:VCALENDAR