
BEGIN:VCALENDAR
VERSION:2.0
PRODID:-// - ECPv6.15.20//NONSGML v1.0//EN
CALSCALE:GREGORIAN
METHOD:PUBLISH
X-ORIGINAL-URL:https://www.durhamcityharriers.org.uk
X-WR-CALDESC:Events for 
REFRESH-INTERVAL;VALUE=DURATION:PT1H
X-Robots-Tag:noindex
X-PUBLISHED-TTL:PT1H
BEGIN:VTIMEZONE
TZID:Europe/London
BEGIN:DAYLIGHT
TZOFFSETFROM:+0000
TZOFFSETTO:+0100
TZNAME:BST
DTSTART:20250330T010000
END:DAYLIGHT
BEGIN:STANDARD
TZOFFSETFROM:+0100
TZOFFSETTO:+0000
TZNAME:GMT
DTSTART:20251026T010000
END:STANDARD
BEGIN:DAYLIGHT
TZOFFSETFROM:+0000
TZOFFSETTO:+0100
TZNAME:BST
DTSTART:20260329T010000
END:DAYLIGHT
BEGIN:STANDARD
TZOFFSETFROM:+0100
TZOFFSETTO:+0000
TZNAME:GMT
DTSTART:20261025T010000
END:STANDARD
BEGIN:DAYLIGHT
TZOFFSETFROM:+0000
TZOFFSETTO:+0100
TZNAME:BST
DTSTART:20270328T010000
END:DAYLIGHT
BEGIN:STANDARD
TZOFFSETFROM:+0100
TZOFFSETTO:+0000
TZNAME:GMT
DTSTART:20271031T010000
END:STANDARD
END:VTIMEZONE
BEGIN:VEVENT
DTSTART;TZID=Europe/London:20260429T184500
DTEND;TZID=Europe/London:20260429T200000
DTSTAMP:20260421T123424
CREATED:20260408T170604Z
LAST-MODIFIED:20260417T132931Z
UID:1640-1777488300-1777492800@www.durhamcityharriers.org.uk
SUMMARY:Neptune Relays
DESCRIPTION:Sedgefield Harriers are proud to present The Neptune Relays 2026. This 4-stage\, 1.7 mile relay takes place in the glorious surroundings of Hardwick Park in Sedgefield\, County Durham on Wednesday 29th April starting at 6.45pm. With room for up to 120 teams of four runners\, entries are welcome from club and non-club runners alike. To register for DCH\, contact Phil Tickner.
URL:https://www.durhamcityharriers.org.uk/event/neptune-relays-2026/
LOCATION:Hardwick Park\, Sedgefield\, Co. Durham\, United Kingdom
CATEGORIES:Events,External Events
END:VEVENT
BEGIN:VEVENT
DTSTART;TZID=Europe/London:20260430T184500
DTEND;TZID=Europe/London:20260430T184500
DTSTAMP:20260421T123424
CREATED:20260414T160043Z
LAST-MODIFIED:20260418T083148Z
UID:2096-1777574700-1777574700@www.durhamcityharriers.org.uk
SUMMARY:Senior Training
DESCRIPTION:Garlic & Bluebells 5K recce [All Groups]
URL:https://www.durhamcityharriers.org.uk/event/senior-endurance-training-12/
LOCATION:Graham Sports Centre\, Maiden Castle\, Stockton Road\, Durham\, Co. Durham\, United Kingdom
CATEGORIES:Senior Endurance,Training,Seniors
END:VEVENT
BEGIN:VEVENT
DTSTART;TZID=Europe/London:20260507T184500
DTEND;TZID=Europe/London:20260507T200000
DTSTAMP:20260421T123424
CREATED:20260417T131123Z
LAST-MODIFIED:20260417T132222Z
UID:2424-1778179500-1778184000@www.durhamcityharriers.org.uk
SUMMARY:Garlic & Bluebells 5K
DESCRIPTION:5k trail race for club members\, starting and finishing on the rugby field\, Maiden Castle.
URL:https://www.durhamcityharriers.org.uk/event/garlicbluebells-26/
LOCATION:Graham Sports Centre\, Maiden Castle\, Stockton Road\, Durham\, Co. Durham\, United Kingdom
CATEGORIES:Events,Club Events
END:VEVENT
BEGIN:VEVENT
DTSTART;TZID=Europe/London:20260531T093000
DTEND;TZID=Europe/London:20260531T120000
DTSTAMP:20260421T123424
CREATED:20260416T114913Z
LAST-MODIFIED:20260417T094452Z
UID:2259-1780219800-1780228800@www.durhamcityharriers.org.uk
SUMMARY:Durham Trail 10M
DESCRIPTION:Ten-mile trail race organised by Trail Outlaws starting from DCH HQ at the Graham Sports Centre. This is a DCH Club Championship event for the 10-mile distance.
URL:https://www.durhamcityharriers.org.uk/event/durham-trail-10m/
LOCATION:Graham Sports Centre\, Maiden Castle\, Stockton Road\, Durham\, Co. Durham\, United Kingdom
CATEGORIES:Events,External Events,Trail Races
END:VEVENT
END:VCALENDAR