
BEGIN:VCALENDAR
VERSION:2.0
PRODID:-// - ECPv6.15.20//NONSGML v1.0//EN
CALSCALE:GREGORIAN
METHOD:PUBLISH
X-ORIGINAL-URL:https://www.durhamcityharriers.org.uk
X-WR-CALDESC:Events for 
REFRESH-INTERVAL;VALUE=DURATION:PT1H
X-Robots-Tag:noindex
X-PUBLISHED-TTL:PT1H
BEGIN:VTIMEZONE
TZID:Europe/London
BEGIN:DAYLIGHT
TZOFFSETFROM:+0000
TZOFFSETTO:+0100
TZNAME:BST
DTSTART:20250330T010000
END:DAYLIGHT
BEGIN:STANDARD
TZOFFSETFROM:+0100
TZOFFSETTO:+0000
TZNAME:GMT
DTSTART:20251026T010000
END:STANDARD
BEGIN:DAYLIGHT
TZOFFSETFROM:+0000
TZOFFSETTO:+0100
TZNAME:BST
DTSTART:20260329T010000
END:DAYLIGHT
BEGIN:STANDARD
TZOFFSETFROM:+0100
TZOFFSETTO:+0000
TZNAME:GMT
DTSTART:20261025T010000
END:STANDARD
BEGIN:DAYLIGHT
TZOFFSETFROM:+0000
TZOFFSETTO:+0100
TZNAME:BST
DTSTART:20270328T010000
END:DAYLIGHT
BEGIN:STANDARD
TZOFFSETFROM:+0100
TZOFFSETTO:+0000
TZNAME:GMT
DTSTART:20271031T010000
END:STANDARD
END:VTIMEZONE
BEGIN:VEVENT
DTSTART;TZID=Europe/London:20260517T102500
DTEND;TZID=Europe/London:20260517T130000
DTSTAMP:20260421T123328
CREATED:20260416T163639Z
LAST-MODIFIED:20260416T163917Z
UID:2288-1779013500-1779022800@www.durhamcityharriers.org.uk
SUMMARY:Sunderland Half Marathon
DESCRIPTION:15th Anniversary of this half-marathon promoted by Sunderland City Runs. This is a DCH Club Championship Event for the half-marathon distance.
URL:https://www.durhamcityharriers.org.uk/event/sunderland-half-marathon/
LOCATION:Keel Square\, Sunderland\, Keel Square\, Sunderland\, United Kingdom
CATEGORIES:Events,External Events,Road Races
END:VEVENT
END:VCALENDAR